BEGIN:VCALENDAR
VERSION:2.0
PRODID:-//Tukios.com/
BEGIN:VEVENT
UID:61874a37-a5a8-4893-94d8-84271f640db3@www.majorericksonfuneralhome.com
DTSTAMP:20260422T190344Z
DTSTART:20260508T160000Z
DTEND:20260508T170000Z
SUMMARY:Funeral Service
DESCRIPTION:
URL:https://www.majorericksonfuneralhome.com/obituaries/maxine-johnson
LOCATION:First United Methodist Church 119 S. Georgia  Mason City IA 
	50401
GEO:43.1502806;-93.1954629
END:VEVENT
END:VCALENDAR