BEGIN:VCALENDAR
VERSION:2.0
PRODID:-//Tukios.com/
BEGIN:VEVENT
UID:86c97e7c-9a33-4597-b5d9-cb9a769762a6@www.majorericksonfuneralhome.com
DTSTAMP:20260422T190534Z
DTSTART:20260508T150000Z
DTEND:20260508T160000Z
SUMMARY:Visitation
DESCRIPTION:
URL:https://www.majorericksonfuneralhome.com/obituaries/maxine-johnson
LOCATION:First United Methodist Church 119 S. Georgia  Mason City IA 
	50401
GEO:43.1502806;-93.1954629
END:VEVENT
END:VCALENDAR