BEGIN:VCALENDAR
VERSION:2.0
PRODID:-//Tukios.com/
BEGIN:VEVENT
UID:9280884e-c4ff-43cc-bbab-68bc0a33a480@www.majorericksonfuneralhome.com
DTSTAMP:20260420T224809Z
DTSTART:20260430
SUMMARY:Burial
DESCRIPTION:
URL:https://www.majorericksonfuneralhome.com/obituaries/lloyd-van-horn
LOCATION: 11495 - 265th St.  Mason City IA 50401
GEO:43.146306;-93.292781
END:VEVENT
END:VCALENDAR