BEGIN:VCALENDAR
VERSION:2.0
PRODID:-//Tukios.com/
BEGIN:VEVENT
UID:0f6e946a-3b28-49f8-b089-e1d78ce702e4@www.majorericksonfuneralhome.com
DTSTAMP:20260420T224451Z
DTSTART:20260430T153000Z
DTEND:20260430T163000Z
SUMMARY:Funeral Service
DESCRIPTION:
URL:https://www.majorericksonfuneralhome.com/obituaries/lloyd-van-horn
LOCATION:Trinity Lutheran Church 213 N. Pennsylvania Avenue  Mason City 
	IA 50401
GEO:43.15401;-93.1973463
END:VEVENT
END:VCALENDAR