BEGIN:VCALENDAR
VERSION:2.0
PRODID:-//Tukios.com/
BEGIN:VEVENT
UID:8ae394e5-de8d-4ea3-b1cb-994cdd68bf89@www.majorericksonfuneralhome.com
DTSTAMP:20260420T224256Z
DTSTART:20260429T220000Z
DTEND:20260430T000000Z
SUMMARY:Visitation
DESCRIPTION:
URL:https://www.majorericksonfuneralhome.com/obituaries/lloyd-van-horn
LOCATION:Major Erickson Funeral Home 111 N Pennsylvania Ave  Mason City 
	IA 50401
GEO:43.1533704;-93.1972286
END:VEVENT
END:VCALENDAR